BEGIN:VCALENDAR
VERSION:2.0
PRODID:icalendar-ruby
CALSCALE:GREGORIAN
METHOD:PUBLISH
BEGIN:VEVENT
DTSTAMP:20260420T221803Z
UID:6-1079544@tgpmillbrook.com
DTSTART:20261101T160000Z
DTEND:20261101T170000Z
CLASS:PUBLIC
CREATED:20260420T161948
DESCRIPTION:Sunday Morning Worship Experience | 10AM
LAST-MODIFIED:20260420T161948
LOCATION:2410 Wall Street Millbrook\, AL 36054
SUMMARY:Sunday Morning Worship Experience | 10AM
URL;VALUE=URI:https://www.tgpmillbrook.com/events/sunday-morning-worship-ex
 perience-10am/2026-11-01
ATTACH;FILENAME=tgp_welcome_2022.jpg;FMTTYPE=image/jpeg:https://dq5pwpg1q8r
 u0.cloudfront.net/2022/08/15/13/51/01/da2f93f0-6b0c-4372-9e41-9e087b90eb0e
 /tgp_welcome_2022.jpg
END:VEVENT
END:VCALENDAR
